BEGIN:VCALENDAR
VERSION:2.0
PRODID:-//wp-events-plugin.com//7.2.3.1//EN
TZID:Australia/Sydney
X-WR-TIMEZONE:Australia/Sydney
BEGIN:VEVENT
UID:0-4@c-hop.org.au
DTSTART;TZID=Australia/Sydney;VALUE=DATE:20200525
DTEND;TZID=Australia/Sydney;VALUE=DATE:20200526
DTSTAMP:20200505T064254Z
URL:https://c-hop.org.au/events/my-second-event/
SUMMARY:Gospel Explosion 19 March 2020
DESCRIPTION:This is from a recent fundraising dinner\n\n\n\n&nbsp\;
CATEGORIES:C-HOP events
END:VEVENT
BEGIN:VTIMEZONE
TZID:Australia/Sydney
X-LIC-LOCATION:Australia/Sydney
BEGIN:STANDARD
DTSTART:20200405T020000
TZOFFSETFROM:+1100
TZOFFSETTO:+1000
TZNAME:AEST
END:STANDARD
END:VTIMEZONE
END:VCALENDAR