BEGIN:VCALENDAR
VERSION:2.0
PRODID:-//wp-events-plugin.com//7.2.3.1//EN
TZID:Australia/Sydney
X-WR-TIMEZONE:Australia/Sydney
BEGIN:VEVENT
UID:0-6@c-hop.org.au
DTSTART;TZID=Australia/Sydney:20210217T190000
DTEND;TZID=Australia/Sydney:20210217T220000
DTSTAMP:20210213T111536Z
URL:https://c-hop.org.au/events/professor-dr-ron-neller-wednesday-february
 -17th-february-7-00pm-c-hop/
SUMMARY:Professor Dr Ron Neller - Wednesday February 17th February 7.00pm (
 C-HOP)
DESCRIPTION:Professor Ron Neller is an eminent Christian scientist who has 
 served in universities world wide and is now a writer in residence at C-HO
 P. At this meeting Dr Ron Neller will be sharing about things he has been 
 learning as he has been researching and writing about false teachers. Come
  and be Challenged\, encouraged and have your questions answered.\n\nDr Ro
 n is from Queensland so it is a rare opportunity to bring your family\, fr
 iends and have a night where you can build your faith.\n\nPlease arrive fr
 om 6.30 pm. Meetings will start at 7 pm
CATEGORIES:C-HOP events
END:VEVENT
BEGIN:VTIMEZONE
TZID:Australia/Sydney
X-LIC-LOCATION:Australia/Sydney
BEGIN:DAYLIGHT
DTSTART:20201004T030000
TZOFFSETFROM:+1000
TZOFFSETTO:+1100
TZNAME:AEDT
END:DAYLIGHT
END:VTIMEZONE
END:VCALENDAR